BEGIN:VCALENDAR
VERSION:2.0
PRODID:-//Contratero//ES
CALSCALE:GREGORIAN
METHOD:PUBLISH
BEGIN:VEVENT
UID:DNA 407/2022@contratero.es
DTSTAMP:20260419T143739Z
DTSTART:20221117T235959
DTEND:20221118T005959
SUMMARY:Cierre: Mantenimiento herramienta Clone & Test
DESCRIPTION:Mantenimiento herramienta Clone & Test\\n\\nOrganismo: Dirección Económico-Financiera de ENAIRE\\n\\nVer en Contratero: https://contratero.es/contracts/DNA 407/2022
URL:https://contratero.es/contracts/DNA 407/2022
STATUS:CONFIRMED
BEGIN:VALARM
TRIGGER:-P1D
ACTION:DISPLAY
DESCRIPTION:Recordatorio: Mantenimiento herramienta Clon
END:VALARM
END:VEVENT
END:VCALENDAR